BEGIN:VCALENDAR
PRODID:-//Ben Fortuna//iCal4j 1.0//EN
VERSION:2.0
CALSCALE:GREGORIAN
BEGIN:VTIMEZONE
TZID:Europe/Berlin
LAST-MODIFIED:20201010T011803Z
TZURL:http://tzurl.org/zoneinfo/Europe/Berlin
X-LIC-LOCATION:Europe/Berlin
X-PROLEPTIC-TZNAME:LMT
BEGIN:STANDARD
TZNAME:CET
TZOFFSETFROM:+005328
TZOFFSETTO:+0100
DTSTART:18930401T000000
END:STANDARD
BEGIN:DAYLIGHT
TZNAME:CEST
TZOFFSETFROM:+0100
TZOFFSETTO:+0200
DTSTART:19160430T230000
RDATE:19400401T020000
RDATE:19430329T020000
RDATE:19460414T020000
RDATE:19470406T030000
RDATE:19480418T020000
RDATE:19490410T020000
RDATE:19800406T020000
END:DAYLIGHT
BEGIN:STANDARD
TZNAME:CET
TZOFFSETFROM:+0200
TZOFFSETTO:+0100
DTSTART:19161001T010000
RDATE:19421102T030000
RDATE:19431004T030000
RDATE:19441002T030000
RDATE:19451118T030000
RDATE:19461007T030000
END:STANDARD
BEGIN:DAYLIGHT
TZNAME:CEST
TZOFFSETFROM:+0100
TZOFFSETTO:+0200
DTSTART:19170416T020000
RRULE:FREQ=YEARLY;UNTIL=19180415T010000Z;BYMONTH=4;BYDAY=3MO
END:DAYLIGHT
BEGIN:STANDARD
TZNAME:CET
TZOFFSETFROM:+0200
TZOFFSETTO:+0100
DTSTART:19170917T030000
RRULE:FREQ=YEARLY;UNTIL=19180916T010000Z;BYMONTH=9;BYDAY=3MO
END:STANDARD
BEGIN:DAYLIGHT
TZNAME:CEST
TZOFFSETFROM:+0100
TZOFFSETTO:+0200
DTSTART:19440403T020000
RRULE:FREQ=YEARLY;UNTIL=19450402T010000Z;BYMONTH=4;BYDAY=1MO
END:DAYLIGHT
BEGIN:DAYLIGHT
TZNAME:CEMT
TZOFFSETFROM:+0200
TZOFFSETTO:+0300
DTSTART:19450524T020000
RDATE:19470511T030000
END:DAYLIGHT
BEGIN:DAYLIGHT
TZNAME:CEST
TZOFFSETFROM:+0300
TZOFFSETTO:+0200
DTSTART:19450924T030000
RDATE:19470629T030000
END:DAYLIGHT
BEGIN:STANDARD
TZNAME:CET
TZOFFSETFROM:+0100
TZOFFSETTO:+0100
DTSTART:19460101T000000
RDATE:19800101T000000
END:STANDARD
BEGIN:STANDARD
TZNAME:CET
TZOFFSETFROM:+0200
TZOFFSETTO:+0100
DTSTART:19471005T030000
RRULE:FREQ=YEARLY;UNTIL=19491002T010000Z;BYMONTH=10;BYDAY=1SU
END:STANDARD
BEGIN:STANDARD
TZNAME:CET
TZOFFSETFROM:+0200
TZOFFSETTO:+0100
DTSTART:19800928T030000
RRULE:FREQ=YEARLY;UNTIL=19950924T010000Z;BYMONTH=9;BYDAY=-1SU
END:STANDARD
BEGIN:DAYLIGHT
TZNAME:CEST
TZOFFSETFROM:+0100
TZOFFSETTO:+0200
DTSTART:19810329T020000
RRULE:FREQ=YEARLY;BYMONTH=3;BYDAY=-1SU
END:DAYLIGHT
BEGIN:STANDARD
TZNAME:CET
TZOFFSETFROM:+0200
TZOFFSETTO:+0100
DTSTART:19961027T030000
RRULE:FREQ=YEARLY;BYMONTH=10;BYDAY=-1SU
END:STANDARD
END:VTIMEZONE
BEGIN:VEVENT
DTSTAMP:20260423T155234Z
DTSTART;TZID=Europe/Berlin:20260731T180000
DTEND;TZID=Europe/Berlin:20260731T180000
SUMMARY:DA CAPO 2026: ClockClock kommt nach Alzey
CREATED:20250930T080443Z
LAST-MODIFIED:20260209T133701Z
DESCRIPTION:Am Freitag\, 31. Juli\, bringt die Erfolgsband ClockClock den
  Alzeyer Schlosshof zum Beben! \n\nDie drei Musiker aus der Metropolregi
 on Rhein-Neckar – Sänger Bojan „Boki“ Kalajdzic aus Speyer sowie die Pro
 duzenten Mark Vonsin und Fabian „Feezy“ Fieser aus Schifferstadt – gehör
 en aktuell zu den spannendsten und erfolgreichsten Pop-Acts Deutschlands
 . Mit ihrem unverwechselbaren Mix aus Elektropop\, emotionalem Songwriti
 ng und radiotauglichen Beats haben sich ClockClock längst über die Grenz
 en Deutschlands hinaus einen Namen gemacht. \n\n2017 gegründet\, feierte
  das Trio schon kurz darauf erste Erfolge mit seinem Song Just a Dream\,
  der vom Berliner Radiosender Fritz entdeckt wurde. Seitdem ging es stei
 l bergauf: Mit ihren Hits Sorry\, Someone Else und Over stürmten ClockCl
 ock gleich mehrfach an die Spitze der deutschen Airplay-Charts. Songs wi
 e Love You Again und Someday Soon erreichten ebenfalls Top-Platzierungen
  und machten die Band zu Dauergästen im Radio.\n\n2023 folgte ihre erste
  ausverkaufte Headliner-Tour durch Deutschland\, Österreich und die Schw
 eiz. Zudem begleiteten sie als Support-Act Headliner wie Simply Red\, On
 eRepublic und Pink\, wo sie vor zehntausenden Fans auftraten. Mit ihrem 
 Debütalbum Dreamers (2024) knüpften ClockClock an diesen Erfolg an – mit
  Festivalauftritten auf internationalen Bühnen wie dem Pinkpop Festival\
 , dem Sziget Festival und dem Colors of Ostrava. \n\nIhr Sound steht für
  Energie\, Emotion und Echtheit – und genau das werden die drei auch im 
 Schlosshof zeigen\, wenn sie den zweiten Abend musikalisch übernehmen.\n
 \nBürgermeister Steffen Jung freut sich über den hochkarätigen Namen im 
 DA CAPO-Programm: „ClockClock ist eine Band\, die perfekt zu unserem Fes
 tival passt – jung\, erfolgreich\, regional verwurzelt und international
  gefragt. Ich bin sicher\, dass ihr Auftritt einer der musikalischen Höh
 epunkte des kommenden Sommers wird.“\n\nTickets gibt es ab sofort online
  unter www.reservix.de sowie in den Alzeyer Vorverkaufsstellen: \n\nBuch
 handlung Schmitt & Hahn (Antoniterstraße 5–7)Lotto-Tickets-ER im Rheinhe
 ssen-Center (Karl-Heinz-Kipp-Straße 23)
LOCATION:Schlosshof
X-LOCATION-NAME:Schlosshof
X-STREET-ADDRESS:Am Kästrich
X-POSTAL-CODE:55232
X-LOCALITY:Alzey
X-ORGANIZER-NAME:Alzeyer Beteiligungs- und Veranstaltungs- GmbH
X-ORGANIZER-WEBSITE:https://dacapo-alzey.de/
URL:http://www.dacapo-alzey.de/
X-IONAS-CATEGORY:Konzert
CATEGORIES:Konzert,Da Capo,Schloss,Open Air
ATTACH;FMTTYPE=image/jpeg;X-COPYRIGHT=niklas kamp:https://www.alzey.de/ka
 lender/2026/juli/2026-07-31-da-capo-2026-clockclock-kommt-nach-alzey/fac
 ebook-titelbild-clockclock1.920-x-1.jpg?cid=zmd.848y
UID:353c023d-d053-429d-b1cc-b0944a7c3fff
END:VEVENT
END:VCALENDAR
