BEGIN:VCALENDAR
PRODID:-//Ben Fortuna//iCal4j 1.0//EN
VERSION:2.0
CALSCALE:GREGORIAN
BEGIN:VTIMEZONE
TZID:Europe/Berlin
LAST-MODIFIED:20201010T011803Z
TZURL:http://tzurl.org/zoneinfo/Europe/Berlin
X-LIC-LOCATION:Europe/Berlin
X-PROLEPTIC-TZNAME:LMT
BEGIN:STANDARD
TZNAME:CET
TZOFFSETFROM:+005328
TZOFFSETTO:+0100
DTSTART:18930401T000000
END:STANDARD
BEGIN:DAYLIGHT
TZNAME:CEST
TZOFFSETFROM:+0100
TZOFFSETTO:+0200
DTSTART:19160430T230000
RDATE:19400401T020000
RDATE:19430329T020000
RDATE:19460414T020000
RDATE:19470406T030000
RDATE:19480418T020000
RDATE:19490410T020000
RDATE:19800406T020000
END:DAYLIGHT
BEGIN:STANDARD
TZNAME:CET
TZOFFSETFROM:+0200
TZOFFSETTO:+0100
DTSTART:19161001T010000
RDATE:19421102T030000
RDATE:19431004T030000
RDATE:19441002T030000
RDATE:19451118T030000
RDATE:19461007T030000
END:STANDARD
BEGIN:DAYLIGHT
TZNAME:CEST
TZOFFSETFROM:+0100
TZOFFSETTO:+0200
DTSTART:19170416T020000
RRULE:FREQ=YEARLY;UNTIL=19180415T010000Z;BYMONTH=4;BYDAY=3MO
END:DAYLIGHT
BEGIN:STANDARD
TZNAME:CET
TZOFFSETFROM:+0200
TZOFFSETTO:+0100
DTSTART:19170917T030000
RRULE:FREQ=YEARLY;UNTIL=19180916T010000Z;BYMONTH=9;BYDAY=3MO
END:STANDARD
BEGIN:DAYLIGHT
TZNAME:CEST
TZOFFSETFROM:+0100
TZOFFSETTO:+0200
DTSTART:19440403T020000
RRULE:FREQ=YEARLY;UNTIL=19450402T010000Z;BYMONTH=4;BYDAY=1MO
END:DAYLIGHT
BEGIN:DAYLIGHT
TZNAME:CEMT
TZOFFSETFROM:+0200
TZOFFSETTO:+0300
DTSTART:19450524T020000
RDATE:19470511T030000
END:DAYLIGHT
BEGIN:DAYLIGHT
TZNAME:CEST
TZOFFSETFROM:+0300
TZOFFSETTO:+0200
DTSTART:19450924T030000
RDATE:19470629T030000
END:DAYLIGHT
BEGIN:STANDARD
TZNAME:CET
TZOFFSETFROM:+0100
TZOFFSETTO:+0100
DTSTART:19460101T000000
RDATE:19800101T000000
END:STANDARD
BEGIN:STANDARD
TZNAME:CET
TZOFFSETFROM:+0200
TZOFFSETTO:+0100
DTSTART:19471005T030000
RRULE:FREQ=YEARLY;UNTIL=19491002T010000Z;BYMONTH=10;BYDAY=1SU
END:STANDARD
BEGIN:STANDARD
TZNAME:CET
TZOFFSETFROM:+0200
TZOFFSETTO:+0100
DTSTART:19800928T030000
RRULE:FREQ=YEARLY;UNTIL=19950924T010000Z;BYMONTH=9;BYDAY=-1SU
END:STANDARD
BEGIN:DAYLIGHT
TZNAME:CEST
TZOFFSETFROM:+0100
TZOFFSETTO:+0200
DTSTART:19810329T020000
RRULE:FREQ=YEARLY;BYMONTH=3;BYDAY=-1SU
END:DAYLIGHT
BEGIN:STANDARD
TZNAME:CET
TZOFFSETFROM:+0200
TZOFFSETTO:+0100
DTSTART:19961027T030000
RRULE:FREQ=YEARLY;BYMONTH=10;BYDAY=-1SU
END:STANDARD
END:VTIMEZONE
BEGIN:VEVENT
DTSTAMP:20260425T171722Z
DTSTART;TZID=Europe/Berlin:20251213T130000
DTEND;TZID=Europe/Berlin:20251213T140000
SUMMARY:Kinder-Weihnachtsmarkt im Alzeyer Schlosspark
CREATED:20251107T073622Z
LAST-MODIFIED:20251107T081947Z
DESCRIPTION:Vom 13. bis 14. Dezember 2025 findet im Alzeyer Schlosspark d
 er 3. Kinder-Weihnachtsmarkt statt.\n\nLasst euch von mitreißenden Vorfü
 hrungen verzaubern und taucht ein in fantastische Welten voller weihnach
 tlicher Klänge.
LOCATION:Schlosspark Alzey
X-LOCATION-NAME:Schlosspark Alzey
X-STREET-ADDRESS:Am Schlosspark
X-POSTAL-CODE:55232
X-LOCALITY:Alzey
X-ORGANIZER-NAME:
CONTACT:MALE Gerd Grünewald\,gerd.gruenewald@gmx.net
X-CONTACT-SALUTATION:MALE
X-CONTACT-GIVEN-NAME:Gerd
X-CONTACT-FAMILY-NAME:Grünewald
X-CONTACT-EMAIL:gerd.gruenewald@gmx.net
X-CONTACT-MOBILE:0160 96759336
X-CONTACT-ADDRESS-COUNTRY:Deutschland
X-CONTACT-ADDRESS-POSTALCODE:55232
X-CONTACT-ADDRESS-LOCALITY:Alzey
X-CONTACT-ADDRESS-STREET:Wartbergstrasse 13a
RRULE:FREQ=DAILY;UNTIL=20251214;INTERVAL=1
X-IONAS-CATEGORY:Weihnachtsmarkt
CATEGORIES:Weihnachtsmarkt,Advent
ATTACH;FMTTYPE=image/jpeg:https://www.alzey.de/kalender/2025/dezember/202
 5-12-13-kinder-weihnachtsmarkt-im-alzeyer-schlosspark/kinderweihnachsmar
 kt-schlosspark.jpg?cid=yg4.7hg4
UID:fec6bae1-63a0-4998-a08d-09ea2ac55870
END:VEVENT
BEGIN:VEVENT
DTSTAMP:20260425T171722Z
DTSTART;TZID=Europe/Berlin:20251213T130000
DTEND;TZID=Europe/Berlin:20251213T140000
SUMMARY:Kinder-Weihnachtsmarkt im Alzeyer Schlosspark
CREATED:20251107T073622Z
LAST-MODIFIED:20251107T081947Z
DESCRIPTION:Vom 13. bis 14. Dezember 2025 findet im Alzeyer Schlosspark d
 er 3. Kinder-Weihnachtsmarkt statt.\n\nLasst euch von mitreißenden Vorfü
 hrungen verzaubern und taucht ein in fantastische Welten voller weihnach
 tlicher Klänge.
LOCATION:Schlosspark Alzey
X-LOCATION-NAME:Schlosspark Alzey
X-STREET-ADDRESS:Am Schlosspark
X-POSTAL-CODE:55232
X-LOCALITY:Alzey
X-ORGANIZER-NAME:
CONTACT:MALE Gerd Grünewald\,gerd.gruenewald@gmx.net
X-CONTACT-SALUTATION:MALE
X-CONTACT-GIVEN-NAME:Gerd
X-CONTACT-FAMILY-NAME:Grünewald
X-CONTACT-EMAIL:gerd.gruenewald@gmx.net
X-CONTACT-MOBILE:0160 96759336
X-CONTACT-ADDRESS-COUNTRY:Deutschland
X-CONTACT-ADDRESS-POSTALCODE:55232
X-CONTACT-ADDRESS-LOCALITY:Alzey
X-CONTACT-ADDRESS-STREET:Wartbergstrasse 13a
X-IONAS-CATEGORY:Weihnachtsmarkt
CATEGORIES:Weihnachtsmarkt,Advent
ATTACH;FMTTYPE=image/jpeg:https://www.alzey.de/kalender/2025/dezember/202
 5-12-13-kinder-weihnachtsmarkt-im-alzeyer-schlosspark/kinderweihnachsmar
 kt-schlosspark.jpg?cid=yg4.7hg4
UID:fec6bae1-63a0-4998-a08d-09ea2ac55870
RECURRENCE-ID;TZID=Europe/Berlin:20251213T130000
END:VEVENT
BEGIN:VEVENT
DTSTAMP:20260425T171722Z
DTSTART;TZID=Europe/Berlin:20251214T130000
DTEND;TZID=Europe/Berlin:20251214T140000
SUMMARY:Kinder-Weihnachtsmarkt im Alzeyer Schlosspark
CREATED:20251107T073622Z
LAST-MODIFIED:20251107T081947Z
DESCRIPTION:Vom 13. bis 14. Dezember 2025 findet im Alzeyer Schlosspark d
 er 3. Kinder-Weihnachtsmarkt statt.\n\nLasst euch von mitreißenden Vorfü
 hrungen verzaubern und taucht ein in fantastische Welten voller weihnach
 tlicher Klänge.
LOCATION:Schlosspark Alzey
X-LOCATION-NAME:Schlosspark Alzey
X-STREET-ADDRESS:Am Schlosspark
X-POSTAL-CODE:55232
X-LOCALITY:Alzey
X-ORGANIZER-NAME:
CONTACT:MALE Gerd Grünewald\,gerd.gruenewald@gmx.net
X-CONTACT-SALUTATION:MALE
X-CONTACT-GIVEN-NAME:Gerd
X-CONTACT-FAMILY-NAME:Grünewald
X-CONTACT-EMAIL:gerd.gruenewald@gmx.net
X-CONTACT-MOBILE:0160 96759336
X-CONTACT-ADDRESS-COUNTRY:Deutschland
X-CONTACT-ADDRESS-POSTALCODE:55232
X-CONTACT-ADDRESS-LOCALITY:Alzey
X-CONTACT-ADDRESS-STREET:Wartbergstrasse 13a
X-IONAS-CATEGORY:Weihnachtsmarkt
CATEGORIES:Weihnachtsmarkt,Advent
ATTACH;FMTTYPE=image/jpeg:https://www.alzey.de/kalender/2025/dezember/202
 5-12-13-kinder-weihnachtsmarkt-im-alzeyer-schlosspark/kinderweihnachsmar
 kt-schlosspark.jpg?cid=yg4.7hg4
UID:fec6bae1-63a0-4998-a08d-09ea2ac55870
RECURRENCE-ID;TZID=Europe/Berlin:20251214T130000
END:VEVENT
END:VCALENDAR
